Workbook

Sheet 1
A1: =("[")&('Pour Escient'!B2)&(", ")&('Pour Escient'!B1)&("|")&('Pour Escient'!G11)&("|0")&("]") -> [, |Pas bon|0]
A2: T2125[1].Fed.Toabua102 | D2: Ventes et commissions
A3: T2125[1].Fed.Toabua106 | D3: TPS/TVH et TVP
A4: T2125[1].Fed.Toabua107 | D4: La TPS/TVH, la taxe de vente provinciale, les retours, les rabais, les escomptes et les redressements de TPS/TVH (inclus au montant 3A)
A5: T2125[1].Fed.Toabua734 | D5: Si vous utilisez la méthode rapide pour la TPS/TVH – Aide gouvernementale calculée comme suit : TPS/TVH perçue ou à percevoir sur les ventes, les commissions et les honoraires admissibles à la méthode rapide
A6: T2125[1].Fed.Toabua735 | D6: TPS/TVH remise : (les ventes, les commissions et les honoraires admissibles à la méthode rapide plus la TPS/TVH perçue ou à percevoir) multipliés par le taux de versement applicable selon la méthode rapide
A7: T2125[1].Fed.Toabua671 | B7: ='Form T2125'!H13 -> 0 | D7: Honoraires bruts, y compris vos travaux en cours et la TPS/TVH perçue ou à percevoir
A8: T2125[1].Fed.Toabua210 | B8: ='Form T2125'!J46 -> 0 | D8: Publicité
A9: T2125[1].Fed.Toabua209 | B9: ='Form T2125'!J45 -> 0 | D9: Repas et frais de représentation – Engagés
A10: T2125[1].Fed.Toabua682 | D10: Repas et frais de représentation – Engagés par les camionneurs de grand routier
A11: T2125[1].Fed.Toabua211 | D11: Créances irrécouvrables
A12: T2125[1].Fed.Toabua215 | B12: ='Form T2125'!J47 -> 0 | D12: Assurances
A13: T2125[1].Fed.Toabua216 | B13: ='Form T2125'!J38 -> 0 | D13: Intérêts et frais bancaires
A14: T2125[1].Fed.Toabua212 | B14: ='Form T2125'!J34 -> 0 | D14: Taxes d'affaires, droits d'adhésion et licences
A15: T2125[1].Fed.Toabua221 | B15: ='Form T2125'!J39 -> 0 | D15: Frais de bureau
A16: T2125[1].Fed.Toabua224 | B16: ='Form T2125'!J50 -> 0 | D16: Papeterie et fournitures de bureau
A17: T2125[1].Fed.Toabua225 | B17: ='Form T2125'!H58 -> 0 | D17: Honoraires professionnels (y compris les frais comptables et juridiques)
A18: T2125[1].Fed.Toabua218 | D18: Frais de gestion et d'administration
A19: T2125[1].Fed.Toabua227 | B19: ='Form T2125'!H65 -> 0 | D19: Loyer
A20: T2125[1].Fed.Toabua217 | B20: ='Form T2125'!J49 -> 0 | D20: Réparations et entretien
A21: T2125[1].Fed.Toabua231 | B21: ='Form T2125'!H72 -> 0 | D21: Salaires – Salaires (y compris les cotisations de l'employeur)
A22: T2125[1].Fed.Toabua232 | D22: Salaires – Commissions versées, traitements, primes, etc.
A23: T2125[1].Fed.Toabua226 | D23: Impôts fonciers
A24: T2125[1].Fed.Toabua233 | B24: ='Form T2125'!H82 -> 0 | D24: Frais de voyage – déplacement
A25: T2125[1].Fed.Toabua234 | D25: Frais de voyage – congrès
A26: T2125[1].Fed.Toabua235 | D26: Téléphone et services publics – Électricité, chauffage, eau
A27: T2125[1].Fed.Toabua236 | B27: ='Form T2125'!J77 -> 0 | D27: Téléphone et services publics – Téléphone et services publics
A28: T2125[1].Fed.Toabua214 | D28: Carburant et huile (sauf pour véhicules à moteur)
A29: T2125[1].Fed.Toabua213 | D29: Livraison, transport et messagerie
A30: T2125[1].Fed.Toabua223 | D30: Dépenses relatives aux véhicules à moteur (sans la DPA) (montant 16 du tableau A) – Autres frais
A31: T2125[1].Fed.Toabua239 | D31: Autres dépenses – Provision – Description
A32: T2125[1].Fed.Toabua250 | D32: Autres dépenses – Provision – Montant
A33: T2125[1].Fed.Toabua251 | B33: ='Form T2125'!H51 -> 0 | D33: Primes d'un régime privé d'assurance-maladie
A34: T2125[1].Fed.Toabua240 | B34: Training costs | D34: 1 – Autres dépenses – Description
A35: T2125[1].Fed.Toabua252 | B35: ='Form T2125'!J80 -> 0 | D35: 1 – Autres dépenses – Montant
A36: T2125[1].Fed.Toabua241 | B36: ='Form T2125'!C91 -> Remuneration to the dentist owner (RL-27) | D36: 2 – Autres dépenses – Description
A37: T2125[1].Fed.Toabua253 | B37: ='Form T2125'!H91 -> 0 | D37: 2 – Autres dépenses – Montant
A38: T2125[1].Fed.Toabua242 | B38: ='Form T2125'!C92 -> 0 | D38: 3 – Autres dépenses – Description
A39: T2125[1].Fed.Toabua254 | B39: ='Form T2125'!H92 -> 0 | D39: 3 – Autres dépenses – Montant
A40: T2125[1].Fed.Toabua243 | B40: ='Form T2125'!C93 -> 0 | D40: 4 – Autres dépenses – Description
...

Sheet Pour Escient
A1: Prénom : | F1: Liste de contribuables :
A2: Nom : | F2: Faites votre choix
A3: Contribuable : | B3: Faites votre choix | F3: Principal | G3: 0
F4: Conjoint | G4: 1
F5: Enfant 1 | G5: 1000
A6: Conciliation du revenu net : | F6: Enfant 2 | G6: 1001
C7: Fédéral | D7: Québec | F7: Enfant 3 | G7: 1002
F8: Enfant 4 | G8: 1003
A9: Revenu net selon la formulaire T2125 : | C9: ='Form T2125'!H100 -> 0 | D9: ='Form T2125'!H100+'1'!B57+'Form T2125'!H51 -> 0 | F9: Enfant 5 | G9: 1004
A10: Frais de véhicule à moteur : | C10: 0 | D10: =C10 -> 0
A11: Amortissement : | C11: 0 | D11: 0 | F11: Donnée renvoiyée | G11: =_xlfn.XLOOKUP(B3,F3:F9,G3:G9,"Pas bon") -> Pas bon
A12: Frais de bureau à domicile : | C12: 0 | D12: 0
A13: Autres :
A14: Autres :
A15: Autres :
C16: =C9-C10-C11-C12-C13-C14-C15 -> 0 | D16: =D9-D10-D11-D12-D13-D14-D15 -> 0
C19: Date
A20: Préparé par :
A21: Révisé par :

Sheet Instructions
B2: Business Income and Expenses | Health Professionals
B4: 1. Fill in the blue boxes with information relevant to your situation.
B6: 2. Complete the Vehicle Expenses and Home Office Expenses forms, if applicable.
B8: 3. Submit all of the following supporting documents :
B10: - | C10: Professional fees
B11: - | C11: Purchase of equipment and capital assets
B12: - | C12: Drug insurance premium
B13: - | C13: Rental contract: car, equipment or other
B14: - | C14: Copy of lease

Sheet Form T2125
H1: 2025
B2: =Instructions!B2 -> Business Income and Expenses | Health Professionals
B4: Name :
B5: Company name :
B6: Financial year start date : | D6: First year of operation? | E6: Selection
B7: Financial year end date : | D7: Last year of operation? | E7: Selection
B10: INCOME
B12: Honoraires | H12: Amount
B13: Total fees not included on T4A, T5013 and RL-27 slips:
B14: Total fees included on T4A, T5013 and RL-27 slips:
B15: - Slip #1 | C15: Type of slip : | D15: Selection
B16: - Slip #2 | C16: Type of slip : | D16: Selection
B17: - Slip #3 | C17: Type of slip : | D17: Selection
B18: - Slip #4 | C18: Type of slip : | D18: Selection
G19: Total : | H19: =SUM(H13:H18) -> 0
B20: EXPENSES
B22: Mandatory professional contributions | H22: Amount
B23: Order of Dentists of Quebec (ODQ):
B24: College of Physicians:
B25: Other :
G26: Total : | H26: =SUM(H23:H25) -> 0 | J26: =IF(H23>0,H23-"35.00",H23)+IF(H24>0,H24-"35.00",H24)+H25 -> 0 | K26: -35.00 office des professions
B28: Other associations and contributions (please attach receipts): | H28: Amount
B29: ACDQ - Association des chirurgiens dentistes du Québec :
B30: Other :
B31: Other :
B32: Other :
B33: Other :
G34: Total : | H34: =SUM(H29:H33) -> 0 | J34: =J26+H34 -> 0
B36: Operating costs | H36: Amount
B37: Interest on your line of credit and bank fees :
B38: Interest on your professional loans (excluding student loans) : | J38: =H37+H38 -> 0
B39: Office expenses (stationary and supplies) : | J39: =H39+H40 -> 0
B40: Reference books :
B41: Laboratory expenses (not deducted from fees) :
B42: Vehicle expenses : | D42: Click here
B43: Home office expenses : | D43: Click here
B44: Advertising (in newspapers, sponsorships, etc.) :
B45: Entertainment expenses (restaurant meals, SAQ, entertainment) : | J45: =H45+H81 -> 0
B46: Client gifts (other than drinks - SAQ) : | J46: =H44+H46 -> 0
B47: Liability insurance (FARPODQ) : | J47: =(IF(H23>0,35,0))+(IF(H24>0,35,0))+H47 -> 0 | K47: Inclus 35 $ office des profession
...

Sheet Vehicle expenses
F1: 2025
B2: =Instructions!B2 -> Business Income and Expenses | Health Professionals
B3: Vehicle expenses (if applicable)
C4: Please provide a copy of any new contracts signed within the year
B5: Vehicle 1
B6: Vehicle information
B7: Make :
B8: Model :
B9: Year :
B10: Type of vehicle : | D10: Selection
B12: Date | F12: Date
B13: Date of acquisition or start of lease :
B14: Date of disposition or end of lease :
B16: Mileage | F16: KM
B17: Mileage driven to earn business income in the year (see note) :
B18: Total mileage traveled in the year :
B20: Vehicle value | F20: Amount
B21: Value of the vehicle at the time of purchase or at the start of the lease (MSRP) before taxes and grants :
B22: Amounts of grants received (purchased vehicle only):
B23: - Federal grant :
B24: - Provincial grant :
B25: Amount for which it was sold or traded in (purchased vehicle only) :
B27: Expenses paid | F27: Amount
B28: Total interest paid in the year (if acquisition with financing only) :
B29: Total lease fees paid in the year :
B31: Fuel (gas, oil, electricity) :
B32: Insurance :
B33: Registration fees and driving license:
B34: Maintenance and repairs :
B35: Parking fees for business purposes (other than at work) :
E37: Total : | F37: =SUM(F28:F35) -> 0
B39: Vehicle 2
B40: Vehicle information
B41: Make :
B42: Model :
B43: Year :
B44: Type of vehicle : | D44: Selection
B46: Date | F46: Date
B47: Date of acquisition or start of lease :
B48: Date of disposition or end of lease :
...

Sheet Home office expenses
K1: 2025
B2: =Instructions!B2 -> Business Income and Expenses | Health Professionals
B3: Home office expenses (if applicable)
B5: Indicate the area used by you only. If the office is shared with your spouse, enter only 50% of the area. In this case, your spouse will have to enter the other 50% of the area used on his or her own form.
T6: Ne pas effacer
B7: If you moved during the year, please provide the requested information separately for each home office. | T7: Choose a unit of measurement
T8: Square feet
B9: Area (mandatory section) | T9: Square meters
B10: Total number of rooms: | E10: Total area:
D11: ou | F11: Ú | O11: 1 | Q11: =IF(O11=2,E11,IF(O11=3,E11*3.28,B11)) -> 0
B12: Number of rooms used for business purposes: | E12: Area used for business purposes:
D13: ou | F13: Ú | O13: 1 | Q13: =IF(O13=2,E13,IF(O13=3,E13*3.28,B13)) -> 0
B15: Description of expenses
E16: Annual costs | K16: Annual costs
B17: Heating : | F17: Rent (if tenant) : | O17: =+I17+I18+I19 -> 0
B18: Electricity : | F18: Condominium fees :
B19: Home insurance : | F19: Alarm system :
B20: Specific maintenance (see note 1) : | F20: Telephone (see note 3): | O20: =+E20+E21 -> 0
B21: Non-specific maintenance (see note 2) : | F21: Internet (see note 3) :
B22: Interest on mortgage : | F22: Supplies (see note 3) :
B23: Property taxes (municipal and school taxes) :
F24: Dépenses totales : | I24: =IF(SUM(E17:E23,I17:K19)=0,"",SUM(E17:E23,I17:K19))
B26: Additional information
B35: Note 1) | C35: Specific maintenance expense - only for the workspace (no proration based on area)
C36: - Maintenance work carried out exclusively in the home office;
C37: - Painting the home office, buying light bulbs, etc.
B39: Note 2) | C39: Non-specific maintenance expense - prorated according to surface area
C40: Eligible expenses based on surface area :
C41: - Minor repairs and routine maintenance (example: furnace and air conditioning repairs);
C42: - Purchase of household products, etc.
C43: Non-eligible maintenance expenses :
C44: - Lawn care;
C45: - Parking snow removal costs;
C46: - Cost of exterior painting;
C47: - Repairs to the exterior brick of the house;
C48: - Landscaping, etc.
B50: Note 3) | C50: Communication costs (telephone and internet) are deductible through your current business expenses. They must be included in the "Form T2125" tab.

Sheet Changement
A1: Année d'imposition : | C1: 2025
A6: Selection
A7: Yes
A8: No
A10: Selection
A11: T4A
A12: T5013
A13: RL27
A15: Selection
A16: Gaz or diesel
A17: Electric
A18: Hybrid
